BEGIN:VCALENDAR
VERSION:2.0
PRODID:spatie/icalendar-generator
DESCRIPTION:Events from Colmagra - Colegio Marcelo Graziosi
X-WR-CALDESC:Events from Colmagra - Colegio Marcelo Graziosi
REFRESH-INTERVAL;VALUE=DURATION:PT1440M
X-PUBLISHED-TTL:PT1440M
BEGIN:VTIMEZONE
TZID:Etc/GMT+0
BEGIN:STANDARD
DTSTART:20250726T000000Z
TZOFFSETFROM:+0000
TZOFFSETTO:+0000
END:STANDARD
END:VTIMEZONE
BEGIN:VTIMEZONE
TZID:UTC
BEGIN:STANDARD
DTSTART:20250728T173503Z
TZOFFSETFROM:+0000
TZOFFSETTO:+0000
END:STANDARD
END:VTIMEZONE
BEGIN:VEVENT
UID:106-95
DTSTAMP:20260424T173503Z
SUMMARY:Día de la Tierra
LOCATION:
ORGANIZER;CN=Colmagra:MAILTO:contacto@riverasofts.com
DTSTART;TZID=Etc/GMT+0;VALUE=DATE:20260422
DTEND;TZID=Etc/GMT+0;VALUE=DATE:20260423
X-ALT-DESC;FMTTYPE=TEXT/HTML:
CATEGORIES:Colmagra
URL;VALUE=URI:https://www.colmagra.edu.co/actividades/dia-de-la-tierra/
METHOD:PUBLISH
END:VEVENT
END:VCALENDAR